BEGIN:VCALENDAR
VERSION:2.0
PRODID:-// - ECPv6.15.20//NONSGML v1.0//EN
CALSCALE:GREGORIAN
METHOD:PUBLISH
X-ORIGINAL-URL:https://clintonmemorialamezion.com
X-WR-CALDESC:Events for 
REFRESH-INTERVAL;VALUE=DURATION:PT1H
X-Robots-Tag:noindex
X-PUBLISHED-TTL:PT1H
BEGIN:VTIMEZONE
TZID:UTC
BEGIN:STANDARD
TZOFFSETFROM:+0000
TZOFFSETTO:+0000
TZNAME:UTC
DTSTART:20240101T000000
END:STANDARD
END:VTIMEZONE
BEGIN:VEVENT
DTSTART;VALUE=DATE:20251003
DTEND;VALUE=DATE:20251004
DTSTAMP:20260420T061923
CREATED:20250906T174720Z
LAST-MODIFIED:20250906T174856Z
UID:1550-1759449600-1759535999@clintonmemorialamezion.com
SUMMARY:AGENDA KINGDOM MENTALITY
DESCRIPTION:AGENDA KINGDOM MENTALITY
URL:https://clintonmemorialamezion.com/event/agenda-kingdom-mentality/
CATEGORIES:Events
END:VEVENT
END:VCALENDAR