BEGIN:VCALENDAR
VERSION:2.0
PRODID:-// - ECPv6.15.20//NONSGML v1.0//EN
CALSCALE:GREGORIAN
METHOD:PUBLISH
X-ORIGINAL-URL:https://clintonmemorialamezion.com
X-WR-CALDESC:Events for 
REFRESH-INTERVAL;VALUE=DURATION:PT1H
X-Robots-Tag:noindex
X-PUBLISHED-TTL:PT1H
BEGIN:VTIMEZONE
TZID:UTC
BEGIN:STANDARD
TZOFFSETFROM:+0000
TZOFFSETTO:+0000
TZNAME:UTC
DTSTART:20240101T000000
END:STANDARD
END:VTIMEZONE
BEGIN:VEVENT
DTSTART;VALUE=DATE:20250906
DTEND;VALUE=DATE:20250907
DTSTAMP:20260420T064104
CREATED:20250906T171804Z
LAST-MODIFIED:20250906T172136Z
UID:1525-1757116800-1757203199@clintonmemorialamezion.com
SUMMARY:FIRST WHOMS Mass Mtg
DESCRIPTION:FIRST WHOMS Mass Meeting at ST. MARY
URL:https://clintonmemorialamezion.com/event/first-whoms-mass-mtg/
CATEGORIES:Events
END:VEVENT
BEGIN:VEVENT
DTSTART;TZID=UTC:20250911T190000
DTEND;TZID=UTC:20250911T203000
DTSTAMP:20260420T064104
CREATED:20250906T171805Z
LAST-MODIFIED:20250906T171805Z
UID:1528-1757617200-1757622600@clintonmemorialamezion.com
SUMMARY:Purpose Driven Church Mtg
DESCRIPTION:Purpose Driven Church Mtg @ 7PM Via Zoom
URL:https://clintonmemorialamezion.com/event/purpose-driven-church-mtg/
CATEGORIES:Events
END:VEVENT
BEGIN:VEVENT
DTSTART;TZID=UTC:20250915T183000
DTEND;TZID=UTC:20250915T200000
DTSTAMP:20260420T064104
CREATED:20250906T171805Z
LAST-MODIFIED:20250906T171805Z
UID:1529-1757961000-1757966400@clintonmemorialamezion.com
SUMMARY:Class Leaders Council Mtg
DESCRIPTION:Class Leaders Council Mtg. @ 6:30 PM
URL:https://clintonmemorialamezion.com/event/class-leaders-council-mtg/
CATEGORIES:Events
END:VEVENT
BEGIN:VEVENT
DTSTART;TZID=UTC:20250916T180000
DTEND;TZID=UTC:20250916T200000
DTSTAMP:20260420T064104
CREATED:20250906T171807Z
LAST-MODIFIED:20250906T171807Z
UID:1530-1758045600-1758052800@clintonmemorialamezion.com
SUMMARY:TRUSTEE BOARD MEETING
DESCRIPTION:TRUSTEE BOARD MEETING @ 6 PM
URL:https://clintonmemorialamezion.com/event/trustee-board-meeting/
CATEGORIES:Events
END:VEVENT
BEGIN:VEVENT
DTSTART;TZID=UTC:20250921T150000
DTEND;TZID=UTC:20250921T170000
DTSTAMP:20260420T064104
CREATED:20250906T171808Z
LAST-MODIFIED:20250906T171808Z
UID:1533-1758466800-1758474000@clintonmemorialamezion.com
SUMMARY:YOUTH IMPACT SUNDAY WORSHIP Pre Check-up Mtg
DESCRIPTION:YOUTH IMPACT SUNDAY WORSHIP Pre Check-up Mtg @ Naomi Temple @ 3pm
URL:https://clintonmemorialamezion.com/event/youth-impact-sunday-worship-pre-check-up-mtg/
CATEGORIES:Events
END:VEVENT
BEGIN:VEVENT
DTSTART;TZID=UTC:20250922T190000
DTEND;TZID=UTC:20250922T203000
DTSTAMP:20260420T064104
CREATED:20250906T171808Z
LAST-MODIFIED:20250906T171808Z
UID:1534-1758567600-1758573000@clintonmemorialamezion.com
SUMMARY:Steward Board Mtg
DESCRIPTION:Steward Board Mtg @ 7:00PM via Zoom
URL:https://clintonmemorialamezion.com/event/steward-board-mtg/
CATEGORIES:Events
END:VEVENT
BEGIN:VEVENT
DTSTART;VALUE=DATE:20250927
DTEND;VALUE=DATE:20250928
DTSTAMP:20260420T064104
CREATED:20250906T171824Z
LAST-MODIFIED:20250906T173755Z
UID:1537-1758931200-1759017599@clintonmemorialamezion.com
SUMMARY:1st Check up Meeting
DESCRIPTION:1st Check up Meeting @ Mother A.M.E. Zion
URL:https://clintonmemorialamezion.com/event/1st-check-up-meeting/
CATEGORIES:Events
END:VEVENT
END:VCALENDAR