BEGIN:VCALENDAR
VERSION:2.0
PRODID:-// - ECPv6.15.20//NONSGML v1.0//EN
CALSCALE:GREGORIAN
METHOD:PUBLISH
X-ORIGINAL-URL:https://clintonmemorialamezion.com
X-WR-CALDESC:Events for 
REFRESH-INTERVAL;VALUE=DURATION:PT1H
X-Robots-Tag:noindex
X-PUBLISHED-TTL:PT1H
BEGIN:VTIMEZONE
TZID:UTC
BEGIN:STANDARD
TZOFFSETFROM:+0000
TZOFFSETTO:+0000
TZNAME:UTC
DTSTART:20240101T000000
END:STANDARD
END:VTIMEZONE
BEGIN:VEVENT
DTSTART;TZID=UTC:20250922T190000
DTEND;TZID=UTC:20250922T203000
DTSTAMP:20260420T081449
CREATED:20250906T171808Z
LAST-MODIFIED:20250906T171808Z
UID:1534-1758567600-1758573000@clintonmemorialamezion.com
SUMMARY:Steward Board Mtg
DESCRIPTION:Steward Board Mtg @ 7:00PM via Zoom
URL:https://clintonmemorialamezion.com/event/steward-board-mtg/
CATEGORIES:Events
END:VEVENT
END:VCALENDAR