BEGIN:VCALENDAR
VERSION:2.0
PRODID:-// - ECPv6.15.20//NONSGML v1.0//EN
CALSCALE:GREGORIAN
METHOD:PUBLISH
X-ORIGINAL-URL:https://clintonmemorialamezion.com
X-WR-CALDESC:Events for 
REFRESH-INTERVAL;VALUE=DURATION:PT1H
X-Robots-Tag:noindex
X-PUBLISHED-TTL:PT1H
BEGIN:VTIMEZONE
TZID:UTC
BEGIN:STANDARD
TZOFFSETFROM:+0000
TZOFFSETTO:+0000
TZNAME:UTC
DTSTART:20240101T000000
END:STANDARD
END:VTIMEZONE
BEGIN:VEVENT
DTSTART;TZID=UTC:20251006T183000
DTEND;TZID=UTC:20251006T200000
DTSTAMP:20260420T064359
CREATED:20251002T194149Z
LAST-MODIFIED:20251002T194149Z
UID:1603-1759775400-1759780800@clintonmemorialamezion.com
SUMMARY:CLASS LEADERS COUNCIL
DESCRIPTION:CLASS LEADERS COUNCIL @ 6:30 PM
URL:https://clintonmemorialamezion.com/event/class-leaders-council/
CATEGORIES:Events
END:VEVENT
END:VCALENDAR