BEGIN:VCALENDAR
VERSION:2.0
PRODID:-// - ECPv6.15.20//NONSGML v1.0//EN
CALSCALE:GREGORIAN
METHOD:PUBLISH
X-ORIGINAL-URL:https://clintonmemorialamezion.com
X-WR-CALDESC:Events for 
REFRESH-INTERVAL;VALUE=DURATION:PT1H
X-Robots-Tag:noindex
X-PUBLISHED-TTL:PT1H
BEGIN:VTIMEZONE
TZID:UTC
BEGIN:STANDARD
TZOFFSETFROM:+0000
TZOFFSETTO:+0000
TZNAME:UTC
DTSTART:20240101T000000
END:STANDARD
END:VTIMEZONE
BEGIN:VEVENT
DTSTART;TZID=UTC:20251021T190000
DTEND;TZID=UTC:20251021T203000
DTSTAMP:20260420T064253
CREATED:20251002T194306Z
LAST-MODIFIED:20251002T194306Z
UID:1614-1761073200-1761078600@clintonmemorialamezion.com
SUMMARY:TRUSTEES BOARD-MTG
DESCRIPTION:TRUSTEES BOARD-MTG @ 7:00 PM
URL:https://clintonmemorialamezion.com/event/trustees-board-mtg/
CATEGORIES:Events
END:VEVENT
END:VCALENDAR